BEGIN:VCALENDAR
VERSION:2.0
PRODID:-//jEvents 2.0 for Joomla//EN
CALSCALE:GREGORIAN
METHOD:PUBLISH
BEGIN:VTIMEZONE
TZID:Europe/Amsterdam
BEGIN:STANDARD
DTSTART:20251026T020000
RDATE:20260329T030000
TZOFFSETFROM:+0200
TZOFFSETTO:+0100
TZNAME:Europe/Amsterdam CET
END:STANDARD
BEGIN:STANDARD
DTSTART:20261025T020000
RDATE:20270328T030000
TZOFFSETFROM:+0200
TZOFFSETTO:+0100
TZNAME:Europe/Amsterdam CET
END:STANDARD
BEGIN:STANDARD
DTSTART:20271031T020000
RDATE:20280326T030000
TZOFFSETFROM:+0200
TZOFFSETTO:+0100
TZNAME:Europe/Amsterdam CET
END:STANDARD
BEGIN:STANDARD
DTSTART:20281029T020000
RDATE:20290325T030000
TZOFFSETFROM:+0200
TZOFFSETTO:+0100
TZNAME:Europe/Amsterdam CET
END:STANDARD
BEGIN:STANDARD
DTSTART:20291028T020000
RDATE:20300331T030000
TZOFFSETFROM:+0200
TZOFFSETTO:+0100
TZNAME:Europe/Amsterdam CET
END:STANDARD
BEGIN:STANDARD
DTSTART:20301027T020000
RDATE:20310330T030000
TZOFFSETFROM:+0200
TZOFFSETTO:+0100
TZNAME:Europe/Amsterdam CET
END:STANDARD
BEGIN:STANDARD
DTSTART:20311026T020000
RDATE:20320328T030000
TZOFFSETFROM:+0200
TZOFFSETTO:+0100
TZNAME:Europe/Amsterdam CET
END:STANDARD
BEGIN:DAYLIGHT
DTSTART:20250518T000000
RDATE:20251026T020000
TZOFFSETFROM:+0100
TZOFFSETTO:+0200
TZNAME:Europe/Amsterdam CEST
END:DAYLIGHT
BEGIN:DAYLIGHT
DTSTART:20260329T030000
RDATE:20261025T020000
TZOFFSETFROM:+0100
TZOFFSETTO:+0200
TZNAME:Europe/Amsterdam CEST
END:DAYLIGHT
BEGIN:DAYLIGHT
DTSTART:20270328T030000
RDATE:20271031T020000
TZOFFSETFROM:+0100
TZOFFSETTO:+0200
TZNAME:Europe/Amsterdam CEST
END:DAYLIGHT
BEGIN:DAYLIGHT
DTSTART:20280326T030000
RDATE:20281029T020000
TZOFFSETFROM:+0100
TZOFFSETTO:+0200
TZNAME:Europe/Amsterdam CEST
END:DAYLIGHT
BEGIN:DAYLIGHT
DTSTART:20290325T030000
RDATE:20291028T020000
TZOFFSETFROM:+0100
TZOFFSETTO:+0200
TZNAME:Europe/Amsterdam CEST
END:DAYLIGHT
BEGIN:DAYLIGHT
DTSTART:20300331T030000
RDATE:20301027T020000
TZOFFSETFROM:+0100
TZOFFSETTO:+0200
TZNAME:Europe/Amsterdam CEST
END:DAYLIGHT
BEGIN:DAYLIGHT
DTSTART:20310330T030000
RDATE:20311026T020000
TZOFFSETFROM:+0100
TZOFFSETTO:+0200
TZNAME:Europe/Amsterdam CEST
END:DAYLIGHT
END:VTIMEZONE
BEGIN:VEVENT
UID:55072afc56e904012f7fb895fc93f5b5
CATEGORIES:Servicerubriek
CREATED:20260420T200405
SUMMARY:Milieubus in Scharsterbrug, Langweer, Idskenhuizen en Sint Nyk
LOCATION:Scharsterbrug\, Langweer\, Idskenhuizen\, SInt Nyk
DESCRIPTION:De milieubus van de gemeente De Fryske Marren komt vandaag in:\nScharsterbr
 ug – Parkeerplaats tennisclub/havenDinsdag, van 09.00 tot 09.30 uurLangweer
  – Parkeerplaats Hendrik DijkstraleaneDinsdag, van 10.00 tot 10.45 uurIdske
 nhuizen – Parkeerplaats kerk aan de TjerkeweiDinsdag, van 11.15 tot 11.45 u
 urSint Nicolaasga – Parkeerplaats Omloop (Baron van Hardenbroekstraat)Dinsd
 ag, van 13.00 tot 14.00 uurMeer informatie en het volledige rijschema staan
  op:\nhttps://www.defryskemarren.nl/direct-regelen/afval-milieu-duurzaamhei
 d/milieubus-als-mobiele-milieustraat-door-dorpen-en-stad/ (https://www.defr
 yskemarren.nl/direct-regelen/afval-milieu-duurzaamheid/milieubus-als-mobiel
 e-milieustraat-door-dorpen-en-stad/)\n
X-ALT-DESC;FMTTYPE=text/html:<p>De milieubus van de gemeente De Fryske Marren komt vandaag in:</p><ul><l
 i data-section-id="1qu60l4" data-start="82" data-end="175"><strong data-sta
 rt="84" data-end="101">Scharsterbrug</strong> – Parkeerplaats tennisclub/ha
 ven<br data-start="134" data-end="137" />Dinsdag, van <strong data-start="1
 52" data-end="175">09.00 tot 09.30 uur</strong></li><li data-section-id="10
 rv1hi" data-start="177" data-end="270"><strong data-start="179" data-end="1
 91">Langweer</strong> – Parkeerplaats Hendrik Dijkstraleane<br data-start="
 229" data-end="232" />Dinsdag, van <strong data-start="247" data-end="270">
 10.00 tot 10.45 uur</strong></li><li data-section-id="f65o0g" data-start="2
 72" data-end="369"><strong data-start="274" data-end="290">Idskenhuizen</st
 rong> – Parkeerplaats kerk aan de Tjerkewei<br data-start="328" data-end="3
 31" />Dinsdag, van <strong data-start="346" data-end="369">11.15 tot 11.45 
 uur</strong></li><li data-section-id="1y8w765" data-start="371" data-end="4
 86"><strong data-start="373" data-end="392">Sint Nicolaasga</strong> – Park
 eerplaats Omloop (Baron van Hardenbroekstraat)<br data-start="445" data-end
 ="448" />Dinsdag, van <strong data-start="463" data-end="486">13.00 tot 14.
 00 uur</strong></li></ul><p>Meer informatie en het volledige rijschema staa
 n op:<br /><a href="https://www.defryskemarren.nl/direct-regelen/afval-mili
 eu-duurzaamheid/milieubus-als-mobiele-milieustraat-door-dorpen-en-stad/">ht
 tps://www.defryskemarren.nl/direct-regelen/afval-milieu-duurzaamheid/milieu
 bus-als-mobiele-milieustraat-door-dorpen-en-stad/</a></p>
CONTACT:RegularLabs.EmailProtector.unCloak("ep_4586e364"); (javascript:/* Dit e-mailadres is beschermd tegen spambots.*/)RegularLabs.EmailProtector.unCloak("ep_2ac69bae", true);
DTSTAMP:20260421T112836
DTSTART;TZID=Europe/Amsterdam;VALUE=DATE:20260519
DTEND;TZID=Europe/Amsterdam;VALUE=DATE:20260520
SEQUENCE:0
TRANSP:OPAQUE
END:VEVENT
END:VCALENDAR